BEGIN:VCALENDAR
VERSION:2.0
PRODID:-//Club Voltaire Tübingen - ECPv6.15.20//NONSGML v1.0//EN
CALSCALE:GREGORIAN
METHOD:PUBLISH
X-WR-CALNAME:Club Voltaire Tübingen
X-ORIGINAL-URL:https://club-voltaire.net
X-WR-CALDESC:Veranstaltungen für Club Voltaire Tübingen
REFRESH-INTERVAL;VALUE=DURATION:PT1H
X-Robots-Tag:noindex
X-PUBLISHED-TTL:PT1H
BEGIN:VTIMEZONE
TZID:Europe/Berlin
BEGIN:DAYLIGHT
TZOFFSETFROM:+0100
TZOFFSETTO:+0200
TZNAME:CEST
DTSTART:20250330T010000
END:DAYLIGHT
BEGIN:STANDARD
TZOFFSETFROM:+0200
TZOFFSETTO:+0100
TZNAME:CET
DTSTART:20251026T010000
END:STANDARD
BEGIN:DAYLIGHT
TZOFFSETFROM:+0100
TZOFFSETTO:+0200
TZNAME:CEST
DTSTART:20260329T010000
END:DAYLIGHT
BEGIN:STANDARD
TZOFFSETFROM:+0200
TZOFFSETTO:+0100
TZNAME:CET
DTSTART:20261025T010000
END:STANDARD
BEGIN:DAYLIGHT
TZOFFSETFROM:+0100
TZOFFSETTO:+0200
TZNAME:CEST
DTSTART:20270328T010000
END:DAYLIGHT
BEGIN:STANDARD
TZOFFSETFROM:+0200
TZOFFSETTO:+0100
TZNAME:CET
DTSTART:20271031T010000
END:STANDARD
END:VTIMEZONE
BEGIN:VEVENT
DTSTART;TZID=Europe/Berlin:20260425T210000
DTEND;TZID=Europe/Berlin:20260425T210000
DTSTAMP:20260425T023800
CREATED:20260201T140505Z
LAST-MODIFIED:20260201T140955Z
UID:16488-1777150800-1777150800@club-voltaire.net
SUMMARY:Tanznacht – Der Club Tanzt!
DESCRIPTION:Wie immer am letzten Samstag des Monats tanzt der Club.\nEs legt auf: DJ Loff (Electr./Funk/Swing/Balkan)\nEintritt: 6\,- Euro
URL:https://club-voltaire.net/v/tanznacht-der-club-tanzt-25
LOCATION:Club Voltaire\, Haaggasse 26b\, Tübingen\, 72070\, Deutschland
CATEGORIES:Disco
ATTACH;FMTTYPE=image/png:https://club-voltaire.net/wp-content/uploads/2025/12/Tanznacht-FB-Titel.png
END:VEVENT
END:VCALENDAR