BEGIN:VCALENDAR
VERSION:2.0
PRODID:-//Club Voltaire Tübingen - ECPv6.15.20//NONSGML v1.0//EN
CALSCALE:GREGORIAN
METHOD:PUBLISH
X-WR-CALNAME:Club Voltaire Tübingen
X-ORIGINAL-URL:https://club-voltaire.net
X-WR-CALDESC:Veranstaltungen für Club Voltaire Tübingen
REFRESH-INTERVAL;VALUE=DURATION:PT1H
X-Robots-Tag:noindex
X-PUBLISHED-TTL:PT1H
BEGIN:VTIMEZONE
TZID:Europe/Berlin
BEGIN:DAYLIGHT
TZOFFSETFROM:+0100
TZOFFSETTO:+0200
TZNAME:CEST
DTSTART:20250330T010000
END:DAYLIGHT
BEGIN:STANDARD
TZOFFSETFROM:+0200
TZOFFSETTO:+0100
TZNAME:CET
DTSTART:20251026T010000
END:STANDARD
BEGIN:DAYLIGHT
TZOFFSETFROM:+0100
TZOFFSETTO:+0200
TZNAME:CEST
DTSTART:20260329T010000
END:DAYLIGHT
BEGIN:STANDARD
TZOFFSETFROM:+0200
TZOFFSETTO:+0100
TZNAME:CET
DTSTART:20261025T010000
END:STANDARD
BEGIN:DAYLIGHT
TZOFFSETFROM:+0100
TZOFFSETTO:+0200
TZNAME:CEST
DTSTART:20270328T010000
END:DAYLIGHT
BEGIN:STANDARD
TZOFFSETFROM:+0200
TZOFFSETTO:+0100
TZNAME:CET
DTSTART:20271031T010000
END:STANDARD
END:VTIMEZONE
BEGIN:VEVENT
DTSTART;TZID=Europe/Berlin:20260422T203000
DTEND;TZID=Europe/Berlin:20260422T203000
DTSTAMP:20260422T122233
CREATED:20260225T082253Z
LAST-MODIFIED:20260225T082253Z
UID:16608-1776889800-1776889800@club-voltaire.net
SUMMARY:Jam Session „Meet the Students“ mit dem Oskar Rimmele Trio
DESCRIPTION:Verankert in der Geschichte des Jazz und offen für neue Klangwelten\, verbindet das Trio Tradition und zeitgenössischer Raffinesse. Ihre Eigenkompositionen sind Ausdruck musikalischer Individualität in den vielfältigen Facetten des Jazz\, bewegen sich mühelos in den verschiedensten Jazzströmungen. \nDabei spielen die drei Musiker aus der Musikhochschule Stuttgart mit einer Leichtigkeit\, die nur eine tiefe Liebe zur Musik hervorbringen kann. \nDie Band präsentiert im ersten Set ihr Programm und danach heisst es: Let’s Jam! \n  \nOskar Rimmele (p)\nNils Becker (b)\nIlja Tarnopolskij (dr) \n\nhttps://oskarrimmele.de/ \n 
URL:https://club-voltaire.net/v/jam-session-meet-the-students-mit-dem-oskar-rimmele-trio
LOCATION:Jazzclub im Club Voltaire\, Haaggasse 26b\, Tübingen\, 72070
CATEGORIES:Jazzclub
ATTACH;FMTTYPE=image/jpeg:https://club-voltaire.net/wp-content/uploads/2025/12/Jam-Session2-www.jpg
END:VEVENT
END:VCALENDAR