BEGIN:VCALENDAR
VERSION:2.0
PRODID:-//Club Voltaire Tübingen - ECPv6.15.20//NONSGML v1.0//EN
CALSCALE:GREGORIAN
METHOD:PUBLISH
X-WR-CALNAME:Club Voltaire Tübingen
X-ORIGINAL-URL:https://club-voltaire.net
X-WR-CALDESC:Veranstaltungen für Club Voltaire Tübingen
REFRESH-INTERVAL;VALUE=DURATION:PT1H
X-Robots-Tag:noindex
X-PUBLISHED-TTL:PT1H
BEGIN:VTIMEZONE
TZID:Europe/Berlin
BEGIN:DAYLIGHT
TZOFFSETFROM:+0100
TZOFFSETTO:+0200
TZNAME:CEST
DTSTART:20250330T010000
END:DAYLIGHT
BEGIN:STANDARD
TZOFFSETFROM:+0200
TZOFFSETTO:+0100
TZNAME:CET
DTSTART:20251026T010000
END:STANDARD
BEGIN:DAYLIGHT
TZOFFSETFROM:+0100
TZOFFSETTO:+0200
TZNAME:CEST
DTSTART:20260329T010000
END:DAYLIGHT
BEGIN:STANDARD
TZOFFSETFROM:+0200
TZOFFSETTO:+0100
TZNAME:CET
DTSTART:20261025T010000
END:STANDARD
BEGIN:DAYLIGHT
TZOFFSETFROM:+0100
TZOFFSETTO:+0200
TZNAME:CEST
DTSTART:20270328T010000
END:DAYLIGHT
BEGIN:STANDARD
TZOFFSETFROM:+0200
TZOFFSETTO:+0100
TZNAME:CET
DTSTART:20271031T010000
END:STANDARD
END:VTIMEZONE
BEGIN:VEVENT
DTSTART;TZID=Europe/Berlin:20260420T200000
DTEND;TZID=Europe/Berlin:20260420T200000
DTSTAMP:20260420T122156
CREATED:20260310T161205Z
LAST-MODIFIED:20260313T203107Z
UID:16656-1776715200-1776715200@club-voltaire.net
SUMMARY:Stummfilm mit Live-Musik
DESCRIPTION:Seven Years Bad Luck von Max Linder (1921\, 65 min)\nPiano: Martin Betz \nDer Franzose Max Linder mag heute nur noch Insidern bekannt sein\, bei Lebzeiten (1883-1925) war er ein Star – manche nennen ihn den ersten Kinostar überhaupt.\nCharlie Chaplin bezeichnet sich als seinen Schüler\, Buster Keaton übernimmt von ihm die Figur des ungerührt-snobistischen Protagonisten\, der für Slapstick-Abenteuer die maximale Fallhöhe bietet. Überdies passt sein Lebenslauf bestens zu den Klischees vom privat unzufriedenen Komiker und von der unglück-verstärkenden Wirkung beruflichen Erfolgs. \n„Seven Years Bad Luck“ ist ein schwereloses Meisterwerk der Filmkomik\, das rückblickend\, angesichts von persönlichem Scheitern und tragischem Tod Linders\, zusätzliche Leuchtkraft gewinnt. \nEintritt: Hutkasse
URL:https://club-voltaire.net/v/stummfilm-mit-live-musik
LOCATION:Club Voltaire\, Haaggasse 26b\, Tübingen\, 72070\, Deutschland
CATEGORIES:Film
ATTACH;FMTTYPE=image/jpeg:https://club-voltaire.net/wp-content/uploads/2024/04/Martin-Betz.jpg
END:VEVENT
END:VCALENDAR